BEGIN:VCALENDAR
VERSION:2.0
PRODID:-//Narara Valley Medical - ECPv4.9.4//NONSGML v1.0//EN
CALSCALE:GREGORIAN
METHOD:PUBLISH
X-WR-CALNAME:Narara Valley Medical
X-ORIGINAL-URL:https://nararavalleymedical.com.au
X-WR-CALDESC:Events for Narara Valley Medical
BEGIN:VTIMEZONE
TZID:"UTC"
BEGIN:STANDARD
TZOFFSETFROM:+0000
TZOFFSETTO:+0000
TZNAME:UTC
DTSTART:20200101T000000
END:STANDARD
END:VTIMEZONE
BEGIN:VEVENT
DTSTART;VALUE=DATE:20200520
DTEND;VALUE=DATE:20200702
DTSTAMP:20200229T030430
CREATED:20200108T001156Z
LAST-MODIFIED:20200108T001156Z
UID:5723-1589932800-1593647999@nararavalleymedical.com.au
SUMMARY:Dr Russell Spinks - Leave
DESCRIPTION:
URL:https://nararavalleymedical.com.au/event/dr-russell-spinks-leave-4/
END:VEVENT
END:VCALENDAR