BEGIN:VCALENDAR
VERSION:2.0
PRODID:-//Narara Valley Medical - ECPv4.9.4//NONSGML v1.0//EN
CALSCALE:GREGORIAN
METHOD:PUBLISH
X-WR-CALNAME:Narara Valley Medical
X-ORIGINAL-URL:https://nararavalleymedical.com.au
X-WR-CALDESC:Events for Narara Valley Medical
BEGIN:VTIMEZONE
TZID:"UTC"
BEGIN:STANDARD
TZOFFSETFROM:+0000
TZOFFSETTO:+0000
TZNAME:UTC
DTSTART:20190101T000000
END:STANDARD
END:VTIMEZONE
BEGIN:VEVENT
DTSTART;VALUE=DATE:20191114
DTEND;VALUE=DATE:20191121
DTSTAMP:20200229T030049
CREATED:20190219T042809Z
LAST-MODIFIED:20190219T042809Z
UID:5545-1573689600-1574294399@nararavalleymedical.com.au
SUMMARY:Dr Margaret Dixon - Annual Leave
DESCRIPTION:
URL:https://nararavalleymedical.com.au/event/dr-margaret-dixon-annual-leave/
END:VEVENT
END:VCALENDAR