BEGIN:VCALENDAR
VERSION:2.0
PRODID:-//Narara Valley Medical - ECPv4.9.4//NONSGML v1.0//EN
CALSCALE:GREGORIAN
METHOD:PUBLISH
X-WR-CALNAME:Narara Valley Medical
X-ORIGINAL-URL:https://nararavalleymedical.com.au
X-WR-CALDESC:Events for Narara Valley Medical
BEGIN:VTIMEZONE
TZID:"UTC"
BEGIN:STANDARD
TZOFFSETFROM:+0000
TZOFFSETTO:+0000
TZNAME:UTC
DTSTART:20190101T000000
END:STANDARD
END:VTIMEZONE
BEGIN:VEVENT
DTSTART;VALUE=DATE:20190610
DTEND;VALUE=DATE:20190611
DTSTAMP:20200229T025529
CREATED:20190104T004715Z
LAST-MODIFIED:20190104T004715Z
UID:5526-1560124800-1560211199@nararavalleymedical.com.au
SUMMARY:Practice Closed - Queens Birthday
DESCRIPTION:
URL:https://nararavalleymedical.com.au/event/practice-closed-queens-birthday-2/
END:VEVENT
END:VCALENDAR