BEGIN:VCALENDAR
VERSION:2.0
PRODID:-//Narara Valley Medical - ECPv4.9.4//NONSGML v1.0//EN
CALSCALE:GREGORIAN
METHOD:PUBLISH
X-WR-CALNAME:Narara Valley Medical
X-ORIGINAL-URL:https://nararavalleymedical.com.au
X-WR-CALDESC:Events for Narara Valley Medical
BEGIN:VTIMEZONE
TZID:"UTC"
BEGIN:STANDARD
TZOFFSETFROM:+0000
TZOFFSETTO:+0000
TZNAME:UTC
DTSTART:20190101T000000
END:STANDARD
END:VTIMEZONE
BEGIN:VEVENT
DTSTART;VALUE=DATE:20190715
DTEND;VALUE=DATE:20190716
DTSTAMP:20200229T025551
CREATED:20190604T044054Z
LAST-MODIFIED:20190604T044206Z
UID:5590-1563148800-1563235199@nararavalleymedical.com.au
SUMMARY:Dr Jocelyn Rikard-Bell - Annual Leave
DESCRIPTION:
URL:https://nararavalleymedical.com.au/event/dr-jocelyn-rikard-bell/
END:VEVENT
END:VCALENDAR