BEGIN:VCALENDAR
VERSION:2.0
PRODID:-//Narara Valley Medical - ECPv4.9.4//NONSGML v1.0//EN
CALSCALE:GREGORIAN
METHOD:PUBLISH
X-WR-CALNAME:Narara Valley Medical
X-ORIGINAL-URL:https://nararavalleymedical.com.au
X-WR-CALDESC:Events for Narara Valley Medical
BEGIN:VTIMEZONE
TZID:"UTC"
BEGIN:STANDARD
TZOFFSETFROM:+0000
TZOFFSETTO:+0000
TZNAME:UTC
DTSTART:20190101T000000
END:STANDARD
END:VTIMEZONE
BEGIN:VEVENT
DTSTART;VALUE=DATE:20190905
DTEND;VALUE=DATE:20190913
DTSTAMP:20200229T025638
CREATED:20190604T043911Z
LAST-MODIFIED:20190830T052929Z
UID:5586-1567641600-1568332799@nararavalleymedical.com.au
SUMMARY:Dr Dean Cavanagh - Annual Leave
DESCRIPTION:
URL:https://nararavalleymedical.com.au/event/dr-dean-cavanagh-annual-leave-4/
END:VEVENT
END:VCALENDAR