BEGIN:VCALENDAR
VERSION:2.0
PRODID:-//Narara Valley Medical - ECPv4.9.4//NONSGML v1.0//EN
CALSCALE:GREGORIAN
METHOD:PUBLISH
X-WR-CALNAME:Narara Valley Medical
X-ORIGINAL-URL:https://nararavalleymedical.com.au
X-WR-CALDESC:Events for Narara Valley Medical
BEGIN:VTIMEZONE
TZID:"UTC"
BEGIN:STANDARD
TZOFFSETFROM:+0000
TZOFFSETTO:+0000
TZNAME:UTC
DTSTART:20200101T000000
END:STANDARD
END:VTIMEZONE
BEGIN:VEVENT
DTSTART;VALUE=DATE:20201228
DTEND;VALUE=DATE:20201229
DTSTAMP:20200229T022650
CREATED:20191218T025027Z
LAST-MODIFIED:20191218T025027Z
UID:5697-1609113600-1609199999@nararavalleymedical.com.au
SUMMARY:Boxing Day Public Holiday - Practice Closed
DESCRIPTION:
URL:https://nararavalleymedical.com.au/event/boxing-day-public-holiday-practice-closed-2/
END:VEVENT
END:VCALENDAR